BEGIN:VCALENDAR
VERSION:2.0
PRODID:-//195.34.83.18//NONSGML kigkonsult.se iCalcreator 2.20//
CALSCALE:GREGORIAN
METHOD:PUBLISH
X-WR-TIMEZONE:UTC
BEGIN:VEVENT
UID:event2010@Intranet BvC Gymnasium
DTSTAMP:20260420T030332Z
CATEGORIES:Ferien
DESCRIPTION:Tag der Arbeit\nKategorie: Ferien\nICS-Link: https://www.cottai
 ntern.de/index.php?option=com_jem&view=event&id=2010:tag-der-arbeit\n
DTSTART;VALUE=DATE:20260501
DTEND;VALUE=DATE:20260502
SUMMARY:Tag der Arbeit
URL:https://www.cottaintern.de/index.php?option=com_jem&view=event&id=2010:
 tag-der-arbeit
END:VEVENT
BEGIN:VEVENT
UID:event2013@Intranet BvC Gymnasium
DTSTAMP:20260420T030332Z
CATEGORIES:Ferien
DESCRIPTION:Himmelfahrt\nKategorie: Ferien\nICS-Link: https://www.cottainte
 rn.de/index.php?option=com_jem&view=event&id=2013:himmelfahrt\n
DTSTART;VALUE=DATE:20260514
DTEND;VALUE=DATE:20260515
SUMMARY:Himmelfahrt
URL:https://www.cottaintern.de/index.php?option=com_jem&view=event&id=2013:
 himmelfahrt
END:VEVENT
BEGIN:VEVENT
UID:event2014@Intranet BvC Gymnasium
DTSTAMP:20260420T030332Z
CATEGORIES:Ferien
DESCRIPTION:Unterrichtsfrei\nKategorie: Ferien\nICS-Link: https://www.cotta
 intern.de/index.php?option=com_jem&view=event&id=2014:unterrichtsfrei\n
DTSTART;VALUE=DATE:20260515
DTEND;VALUE=DATE:20260516
SUMMARY:Unterrichtsfrei
URL:https://www.cottaintern.de/index.php?option=com_jem&view=event&id=2014:
 unterrichtsfrei
END:VEVENT
BEGIN:VEVENT
UID:event2021@Intranet BvC Gymnasium
DTSTAMP:20260420T030332Z
CATEGORIES:Ferien
DESCRIPTION:Pfingstmontag\nKategorie: Ferien\nICS-Link: https://www.cottain
 tern.de/index.php?option=com_jem&view=event&id=2021:pfingstmontag\n
DTSTART;VALUE=DATE:20260525
DTEND;VALUE=DATE:20260526
SUMMARY:Pfingstmontag
URL:https://www.cottaintern.de/index.php?option=com_jem&view=event&id=2021:
 pfingstmontag
END:VEVENT
BEGIN:VEVENT
UID:event2033@Intranet BvC Gymnasium
DTSTAMP:20260420T030332Z
CATEGORIES:Veranstaltungen
DESCRIPTION:Genial Sozial\nKategorie: Veranstaltungen\nICS-Link: https://ww
 w.cottaintern.de/index.php?option=com_jem&view=event&id=2033:genial-sozial
 \n
DTSTART;VALUE=DATE:20260630
DTEND;VALUE=DATE:20260701
SUMMARY:Genial Sozial
URL:https://www.cottaintern.de/index.php?option=com_jem&view=event&id=2033:
 genial-sozial
END:VEVENT
END:VCALENDAR
